BEGIN:VCALENDAR
VERSION:2.0
PRODID:-//Kulturspeicher Ueckermünde - ECPv6.15.18//NONSGML v1.0//EN
CALSCALE:GREGORIAN
METHOD:PUBLISH
X-WR-CALNAME:Kulturspeicher Ueckermünde
X-ORIGINAL-URL:https://speicher-ueckermuende.de
X-WR-CALDESC:Veranstaltungen für Kulturspeicher Ueckermünde
REFRESH-INTERVAL;VALUE=DURATION:PT1H
X-Robots-Tag:noindex
X-PUBLISHED-TTL:PT1H
BEGIN:VTIMEZONE
TZID:Europe/Berlin
BEGIN:DAYLIGHT
TZOFFSETFROM:+0100
TZOFFSETTO:+0200
TZNAME:CEST
DTSTART:20250330T010000
END:DAYLIGHT
BEGIN:STANDARD
TZOFFSETFROM:+0200
TZOFFSETTO:+0100
TZNAME:CET
DTSTART:20251026T010000
END:STANDARD
BEGIN:DAYLIGHT
TZOFFSETFROM:+0100
TZOFFSETTO:+0200
TZNAME:CEST
DTSTART:20260329T010000
END:DAYLIGHT
BEGIN:STANDARD
TZOFFSETFROM:+0200
TZOFFSETTO:+0100
TZNAME:CET
DTSTART:20261025T010000
END:STANDARD
BEGIN:DAYLIGHT
TZOFFSETFROM:+0100
TZOFFSETTO:+0200
TZNAME:CEST
DTSTART:20270328T010000
END:DAYLIGHT
BEGIN:STANDARD
TZOFFSETFROM:+0200
TZOFFSETTO:+0100
TZNAME:CET
DTSTART:20271031T010000
END:STANDARD
END:VTIMEZONE
BEGIN:VEVENT
DTSTART;TZID=Europe/Berlin:20261017T200000
DTEND;TZID=Europe/Berlin:20261017T220000
DTSTAMP:20260423T123530
CREATED:20260113T173201Z
LAST-MODIFIED:20260113T173212Z
UID:1271-1792267200-1792274400@speicher-ueckermuende.de
SUMMARY:Catfish
DESCRIPTION:CATFISH – One Man Band live im KULTurSPEICHER\nAm 17. Oktober ist mit CATFISH ein Musiker im KULTurSPEICHER zu Gast\, der seit Jahrzehnten für handgemachten Blues und Rock’n’Roll steht. Der Berliner Andreas Krambach bringt fast 40 Jahre Bühnenerfahrung mit – und das im wahrsten Sinne des Wortes: Als One-Man-Band ist er zugleich Sänger\, Gitarrist\, Mundharmonikaspieler und Schlagzeuger. \nMit akustischer Gitarre\, prägnantem Slide-Spiel\, Mundharmonika und rhythmischer Fußarbeit lässt CATFISH den Sound einer ganzen Band entstehen. Auf dem Programm stehen Blues- und Rock’n’Roll-Klassiker ebenso wie eigene Stücke – nicht als bloße Kopien\, sondern in frischen Arrangements\, voller Spielfreude\, Improvisation und persönlicher Handschrift. \nMehr als 1.500 Konzerte\, zahlreiche musikalische Weggefährten und Begegnungen mit internationalen Bluesmusikern prägen seinen Stil. CATFISH gelingt es\, die Tradition des Blues lebendig zu halten und ihr zugleich immer wieder neue Facetten abzugewinnen. \nEin Abend für Bluesfans – und für alle\, die ehrliche\, raumfüllende Livemusik lieben. \nEinlass: 19 Uhr\nEintritt: 16 Euro (VVK) / 18 Euro (AK) \nTickets reservieren\nDie Tickets zum Vorverkaufspreis werden an der Abendkasse für Sie zurückgelegt. Bitte holen Sie die Tickets spätestens 15 Minuten vor Veranstaltungsbeginn ab. Name *E-Mail-Adresse *TelefonnummerWie viele Karten möchten Sie reservieren?1 Ticket2 Tickets3 Tickets4 Tickets5 Tickets6 Tickets7 Tickets8 TicketsNachricht0 / 500Datenschutzerklärung *Ja\, ich habe die Datenschutzerklärung zur Kenntnis genommen und bin damit einverstanden\, dass die von mir angegebenen Daten elektronisch erhoben und gespeichert werden. Meine Daten werden dabei nur streng zweckgebunden zur Bearbeitung und Beantwortung meiner Anfrage benutzt und nach Ende der Veranstaltung gelöscht. Nachricht senden\n 
URL:https://speicher-ueckermuende.de/event/catfish/
LOCATION:Veranstaltungsraum\, Bergstraße 2\, Ueckermünde\, 17373\, Germany
CATEGORIES:Konzert
ATTACH;FMTTYPE=image/jpeg:https://speicher-ueckermuende.de/wp-content/uploads/2026/01/IMG_catfish7-w.jpg
END:VEVENT
END:VCALENDAR