BEGIN:VCALENDAR
VERSION:2.0
PRODID:-//Kulturspeicher Ueckermünde - ECPv6.15.18//NONSGML v1.0//EN
CALSCALE:GREGORIAN
METHOD:PUBLISH
X-ORIGINAL-URL:https://speicher-ueckermuende.de
X-WR-CALDESC:Veranstaltungen für Kulturspeicher Ueckermünde
REFRESH-INTERVAL;VALUE=DURATION:PT1H
X-Robots-Tag:noindex
X-PUBLISHED-TTL:PT1H
BEGIN:VTIMEZONE
TZID:Europe/Berlin
BEGIN:DAYLIGHT
TZOFFSETFROM:+0100
TZOFFSETTO:+0200
TZNAME:CEST
DTSTART:20250330T010000
END:DAYLIGHT
BEGIN:STANDARD
TZOFFSETFROM:+0200
TZOFFSETTO:+0100
TZNAME:CET
DTSTART:20251026T010000
END:STANDARD
BEGIN:DAYLIGHT
TZOFFSETFROM:+0100
TZOFFSETTO:+0200
TZNAME:CEST
DTSTART:20260329T010000
END:DAYLIGHT
BEGIN:STANDARD
TZOFFSETFROM:+0200
TZOFFSETTO:+0100
TZNAME:CET
DTSTART:20261025T010000
END:STANDARD
BEGIN:DAYLIGHT
TZOFFSETFROM:+0100
TZOFFSETTO:+0200
TZNAME:CEST
DTSTART:20270328T010000
END:DAYLIGHT
BEGIN:STANDARD
TZOFFSETFROM:+0200
TZOFFSETTO:+0100
TZNAME:CET
DTSTART:20271031T010000
END:STANDARD
END:VTIMEZONE
BEGIN:VEVENT
DTSTART;TZID=Europe/Berlin:20261002T200000
DTEND;TZID=Europe/Berlin:20261002T220000
DTSTAMP:20260419T173316
CREATED:20260120T181053Z
LAST-MODIFIED:20260120T181053Z
UID:1317-1790971200-1790978400@speicher-ueckermuende.de
SUMMARY:Dom Glynn & His Sunday Best
DESCRIPTION:Am 2. Oktober gastiert Dom Glynn & His Sunday Best im KULTurSPEICHER Ueckermünde und bringt authentischen Honky-Tonk-Sound und klassischen Country nach Vorpommern. \nDer 29-jährige Brite Dom Glynn gilt als eines der spannendsten Talente der aktuellen Country- und Roots-Szene. Aufgewachsen mit den Songs seiner amerikanischen Helden\, hat er sich früh ganz der Musik verschrieben und unzählige Bühnen in London und darüber hinaus bespielt. Sein Songwriting atmet den Geist von Johnny Cash und Hank Williams Sr.\, während sein Gitarrenspiel an die feine Fingerpicking-Tradition von Mississippi John Hurt und Doc Watson erinnert. \nGemeinsam mit seiner Band His Sunday Best – Telecaster-Virtuose Laurence Kingston\, Schlagzeuger Roman Xavier und Bassist sowie Harmonie-Sänger Jack Trouble – steht Dom Glynn für einen energiegeladenen\, tanzbaren Live-Sound. Nach gefeierten Auftritten auf renommierten Festivals wie Maverick\, Black Deer oder Rotterdam Bluegrass und Tourneen durch Großbritannien\, die Niederlande und Deutschland ist die Band nun auch in Ueckermünde zu erleben. \nMit ihrem aktuellen Live-Album\, erschienen im Dezember 2025\, haben Dom Glynn & His Sunday Best ihren Sound weiterentwickelt: elektrisch\, roh und voller Spielfreude. Ein Konzert für alle\, die handgemachte Musik lieben – ehrlich\, mitreißend und direkt aus dem Herzen des Honky Tonk. \nwww.domglynn.com/ \nEinlass: 19 Uhr\nEintritt: 20 Euro (VVK) / 22 Euro (AK) \nTickets reservieren\nDie Tickets zum Vorverkaufspreis werden an der Abendkasse für Sie zurückgelegt. Bitte holen Sie die Tickets spätestens 15 Minuten vor Veranstaltungsbeginn ab. Name *E-Mail-Adresse *TelefonnummerWie viele Karten möchten Sie reservieren?1 Ticket2 Tickets3 Tickets4 Tickets5 Tickets6 Tickets7 Tickets8 TicketsNachricht0 / 500Datenschutzerklärung *Ja\, ich habe die Datenschutzerklärung zur Kenntnis genommen und bin damit einverstanden\, dass die von mir angegebenen Daten elektronisch erhoben und gespeichert werden. Meine Daten werden dabei nur streng zweckgebunden zur Bearbeitung und Beantwortung meiner Anfrage benutzt und nach Ende der Veranstaltung gelöscht. Nachricht senden
URL:https://speicher-ueckermuende.de/event/dom-glynn-his-sunday-best/
LOCATION:Veranstaltungsraum\, Bergstraße 2\, Ueckermünde\, 17373\, Germany
CATEGORIES:Konzert
ATTACH;FMTTYPE=image/jpeg:https://speicher-ueckermuende.de/wp-content/uploads/2026/01/Dom-Glynn-His-Sunday-Best.jpeg
END:VEVENT
END:VCALENDAR